BEGIN:VCALENDAR
METHOD:PUBLISH
VERSION:2.0
PRODID:-//Eventilla iCal Syndication//NONSGML Liana//EN
BEGIN:VEVENT
UID:l9VeM@eventilla.com
DTSTAMP:20250217T110000Z
DTSTART:20250217T110000Z
DTEND:20250217T140000Z
SUMMARY:Tekoälyllä rikastettu Meta markkinointi
DESCRIPTION:Tekoälyllä rikastettu Meta markkinointi \n \nMetan kanavat eli Facebook\, Instagram ja Threads ovat edelleen vuonna 2025 loistavia kanavia Pk-yrityksille tehdä markkinointia. Tässä koulutuksessa opetetaan käytännönläheisesti\, miten Pk-yrityksen kannattaa tehdä tuloksellista tekoälyllä rikastettua Facebook ja Instagram markkinointia vuonna 2025. Lisäksi hän saa katsauksen myös Threads kanavan mahdollisuuksista.\n \nKoulutuksen jälkeen osallistuja ymmärtää Metan kanavien uudet mahdollisuudet\, osaa hyödyntää monipuolisesti erilaisia sisältötyyppejä (Kuvat\, videot\, Stories ja Reels eli kelat) sekä ymmärtää\, miten Metan algoritmit toimivat. Hän oppii hyödyntämään tekoälyä osana Meta-markkinointia. \n \nAsiantuntijana Taneli Katila\, idealDIGI. \n \nSaat osallistumislinkin sähköpostiisi ennen webinaaria.\n \nTämä tilaisuus on tarkoitettu Etelä-Kymenlaakson ja Loviisan yrityksille ja alueellemme yritystoimintaa suunnitteleville.
LOCATION:webinaari\, webinaari
URL:http://tapahtumat.cursor.fi/meta_tekoaly
END:VEVENT
END:VCALENDAR
