BEGIN:VCALENDAR
METHOD:PUBLISH
VERSION:2.0
PRODID:-//Eventilla iCal Syndication//NONSGML Liana//EN
BEGIN:VEVENT
UID:YaVB2@eventilla.com
DTSTAMP:20251104T150000Z
DTSTART:20251104T150000Z
DTEND:20251104T180000Z
SUMMARY:Kymenlaakson Omistajanvaihdosfoorumi
DESCRIPTION:"Yrittäjyyden jatkuminen ei tapahdu itsestään – se vaatii rohkeutta\, yhteistyötä ja ennakointia."\n \nKymenlaakson Omistajanvaihdosfoorumi kokoaa yhteen yrittäjät\, asiantuntijat ja alueelliset toimijat keskustelemaan yritysten omistajanvaihdoksista ja niiden tulevaisuudesta. Tilaisuus on osa valtakunnallista Omistajanvaihdosviikkoa\, jolloin eri puolilla Suomea pohditaan yrittäjyyden jatkuvuuden turvaamista ja keinoja\, joilla omistajanvaihdoksia voidaan toteuttaa entistä sujuvammin.\nFoorumin ilta rakentuu kahdesta osasta. Ensimmäinen osuus klo 17.00–18.00 on suunnattu kutsuvieraille: siinä luodaan katsaus alueelliseen tilannekuvaan ja keskustellaan omistajanvaihdosten ennakoinnista. Toisessa osassa klo 18.00 alkaen ovet avautuvat kaikille kiinnostuneille\, ja ohjelmassa on puheenvuoroja sekä yrittäjien tarinoita\, jotka valottavat omistajanvaihdosten mahdollisuuksia ja haasteita käytännön tasolla.\n \nOhjelma\n17.00–17.15 Maakunnalliset näkemykset\nSirpa Kantola-Pakkanen\, aluejohtaja\, Kymen Yrittäjät\n– Mikä on alueellinen foorumi\, ketä se kokoaa yhteen ja miten työtä viedään eteenpäin?\n17.15–18.00 Keskusteleva asiantuntijaosuus \nSirpa Kantola-Pakkanen\, Kymen Yrittäjät & Inkeri Sundberg\, Suomen Yrittäjät\nKymenlaakson alueellisen omistajanvaihdosfoorumin perustaminen\n \n18.00–18.30 Kahvit ja verkostoituminen\n– Tässä vaiheessa tilaisuus avautuu kaikille osallistujille. Kahvitarjoilun lomassa on mahdollisuus verkostoitua ja tutustua asiantuntijoiden ständeihin.\n \n18.30 Tervetulosanat ja alueen ajankohtaiset kuulumiset\nElina Reijasalo\, yrityspalvelujohtaja\, Cursor Oy\n18.40 Valtakunnalliset omistajanvaihdoskuulumiset\nInkeri Sundberg\, Suomen Yrittäjät ja Sirpa Kantola-Pakkanen\, aluejohtaja\, Kymen Yrittäjät\n19.00 Yrittäjien kokemuksia omistajanvaihdoksista\n– Omistajanvaihdoksen tehneet yrittäjät kertovat rohkeista päätöksistä ja niiden vaikutuksista\nMerja Sundberg (Kotkan Kiinteistömaailma) ja Anne Savonen (Ravintola Keisarinsatama)\n19.25 Yrittäjän jatkuva oppiminen ja oppilaitosyhteistyön mahdollisuudet yrityksen elinkaaren eri vaiheissa\nAnne Kainlauri\, Ekami\n19.40 Loppusanat ja seuraavat askeleet\n20.00 Tilaisuus päättyy\n \nOmistajanvaihdosfoorumi tarjoaa mahdollisuuden perehtyä ajankohtaiseen tietoon\, kuulla yrittäjien tarinoita ja verkostoitua alueen muiden toimijoiden kanssa. Foorumi on paikka\, jossa alueellinen tilannekuva\, valtakunnalliset näkymät ja käytännön kokemukset täydentävät toisiaan. Yhdessä voimme rakentaa entistä vahvempaa tukea yrityksille\, jotka valmistautuvat omistajanvaihdokseen tai käyvät sitä parhaillaan läpi.\n \nTilaisuus on maksuton ja sisältää tarjoilun.\nIlmoittaudu mukaan viimeistään 28.10.mennessä.\n \nTilaisuuden mahdollistaa Euroopan unionin osarahoittama Varustamo – tukena yrityksen omistajanvaihdoksessa -ryhmähanke\, jonka toteuttajat ovat Cursor\, Kouvola Innovation\, Eduko\, Ekami ja Xamk. Hankkeen pääasiallinen rahoitus tulee ESR+ -ohjelmasta. \n \nTervetuloa mukaan vahvistamaan yrittäjyyden jatkuvuutta Kymenlaaksossa!\n
LOCATION:Kotkan Höyrypanimo\, Metsontie 41\, 48220\, Kotka\, Suomi
URL:http://tapahtumat.cursor.fi/event/YaVB2
END:VEVENT
END:VCALENDAR
