BEGIN:VCALENDAR
METHOD:PUBLISH
VERSION:2.0
PRODID:-//Eventilla iCal Syndication//NONSGML Liana//EN
BEGIN:VEVENT
UID:WpVoX@eventilla.com
DTSTAMP:20251126T063000Z
DTSTART:20251126T063000Z
DTEND:20251126T131500Z
SUMMARY:Power Coast - Virtaa rannikolle 4 -seminaari
DESCRIPTION:Teollisuuden suunnannäyttäjät – energiaa\, uudistumista ja kasvua Kymenlaaksossa\n \nKymenlaakso on keskellä teollista murrosta\, jossa energiaintensiiviset alat\, vastuullisuus ja uudet teknologiat muovaavat alueen tulevaisuutta. Tule kuuntelemaan ajankohtainen katsaus alueen teollisuuden ja energiaintensiivisten alojen kehitykseen. Päivän aikana kuullaan asiantuntijapuheenvuoroja muun muassa akkuteollisuuden mahdollisuuksista ja vedyn roolista tulevaisuuden energiajärjestelmässä sekä paikallisesta kehityksestä. Tervetuloa inspiroitumaan ja hakemaan näkökulmia\, miten alueen elinvoimaa rakennetaan kestävästi ja kilpailukykyisesti.\n\nVoiko akkuteollisuudesta kasvaa Kymenlaakson uusi teollinen veturi?Onko vety vain hypeä – vai avain kestävään kasvuun myös pk-yrityksille?Miksi investoida Suomeen kantaverkon näkökulmasta?\n \n\nAIKA: Keskiviikko 26.11. klo 8.30-15.15PAIKKA: Merikeskus Vellamo\, auditorio\, Tornatorintie 99\, 48100 Kotkatai etänä (striimaukseen ilmoittautuneille lähetetään osallistumislinkki ennen tapahtumaa)\nLämpimästi tervetuloa mukaan!\nALUSTAVA OHJELMA (puheenvuorot tarkentuvat\, oikeudet muutoksiin pidätetään)\n8.30-9.00        Aamukahvi\n9.00-9.05        Tervetuloa\n9.05-9.25       Joukkoliikenteen sähköistämisen näkymät Kotkan-Haminan seudulla                                Esa Partanen\, joukkoliikennepäällikkö\, Kotkan kaupunki\n9.25-9.45      HaminaKotka Satama Oy - Sähköistyminen osana teknistä kehitystä                                Esa Paronen\, tekninen johtaja\, HaminaKotka Satama Oy\n9.45-10.15     Googlen hukkalämpöjen hyödyntäminen kaukolämmöksi                                Kalevi Mattila\, toimitusjohtaja\, Haminan Energia Oy\n10.15-10.50     Kestävä yhteiskunta alkaa energiasta – Suomen ja maakuntien merkitys                                Tuija Pakkanen\, Lead\, Sustainable Built Enviroment\, VTT\n10.50-11.00     Yritysten vihreät/puhtaat toimenpiteet Kymenlaaksossa                                Marika Kirjavainen\, toimitusjohtaja\, Kymenlaakson kauppakamari\n11.00-12.00    Lounas\n12.00-12.30     Kantaverkon kehittäminen Suomessa ja Kymenlaaksossa                                Jarno Sederlund\, asiakaspäällikkö\, Fingrid Oyj\n12.30-13.00    Grafintec Kotkassa – grafiittianodien tuotanto osana akkuarvoketjua                                 Rasmus Blomqvist\, toimitusjohtaja\, Grafintec Oy\n13.00-13.30     Kotkan katodimateriaalihankkeen tilannekatsaus                                Risto Kohvakka\, Site and EHS Manager\, Easpring Finland New Materials Oy\n13.30-14.00    Iltapäiväkahvi\n14.00-14.25    Arctic Sisun eMetaani -hanke ja sijoittuminen Kotkan kaupunkiin                                Antti Pohjoranta\, tekninen vastaava\, Arctic Sisu Corporation Oy\n14.25-14.50    Vetyverkot\, kasvua ja kilpailukykyä                                 Jari Idström\, Development manager\, Customer projects\, Gasgrid Finland Oy\n14.50-15.10   Selvitys Kymenlaakson vetytalouden arvoketjun potentiaalista                                Roope Mannonen\, energia-alan asiantuntija\, Rejlers Finland Oy\n15.10-15.15 Yhteenveto ja päätössanat\n \nTilaisuuden juontaa Senior Advisor Jarkko Harjula Cursorilta.\nIlmoittautuminen Merikeskus Vellamon live-tilaisuuteen 20.11. mennessä ja striimiin 25.11. mennessä.\nTilaisuuden striimi tallennetaan ja linkki tallenteeseen lähetetään kaikille ilmoittautuneille. Tallenne on katsottavissa kahden viikon ajan.\nPysäköinnin ohje Vellamoon saapuville\n \nTapahtumaan paikan päällä osallistuvilla on myös mahdollisuus vierailla maksutta Merikeskus Vellamon näyttelyissä (Näyttelyt 2025 esite) aukioloaikojen puitteissa (ke klo 10-20).\n \nTapahtuman järjestää Euroopan Unionin osarahoittamat YEEVES - Yhteisöllisellä energialla eteenpäin - vihreys elinvoiman suuntana -hanke (Kymenlaakson liitto)\, Vihreällä vedyllä ja hiilidioksidilla voimaa Kaakkois-Suomeen -hanke (Etelä-Karjalan liitto) ja KiinteistöAkku2030 -hanke (Pohjois-Pohjanmaan ELY-keskus).\n
LOCATION:Merikeskus Vellamo, auditorio\, Tornatorintie 99\, 48100\, Kotka
URL:http://tapahtumat.cursor.fi/virtaa_rannikolle_4
END:VEVENT
END:VCALENDAR
