BEGIN:VCALENDAR
METHOD:PUBLISH
VERSION:2.0
PRODID:-//Eventilla iCal Syndication//NONSGML Liana//EN
BEGIN:VEVENT
UID:VEZBN@eventilla.com
DTSTAMP:20260311T140000Z
DTSTART:20260311T140000Z
DTEND:20260311T160000Z
SUMMARY:Pizzaa & Bisnestä
DESCRIPTION:Pizzaa & Bisnestä\n \nHaaveiletko yrittäjyydestä tai oletko jo yrittäjyyden konkari? Tervetuloa Pizzaa & Bisnestä -tilaisuuteen Haminan Jack-Up -ravintolaan\, eli tuttavallisemmin Jaskaan! Rento After Work -tilaisuus sopii kaikille yrittäjille ja yrittäjyydestä kiinnostuneille.\n \n📍 Sijainti: Jack Up\, Hamina\n Päivä: 11.3.2026⏰ Aika: klo 16-18\n \nYhdessä yrittäen\nEtelä-Kymenlaaksossa on tarjolla yrittäjille lukuisia loistavia ja maksuttomia palveluita. Istahda pizzan ja juoman äärelle kuulemaan inspiroivia yritystarinoita ja tutustumaan muihin alueen yrittäjiin ja yritystoiminnasta innostuneisiin ihmisiin.\nIllan aikana kuulemme kolme mielenkiintoista yrittäjätarinaa:\n\nHanna Koistinen\, kauneusalan yrittäjä / Blacklace\nToni Nihtilä\, peräkärryjen ja trailereiden asiantuntija / Trans Caravan Oy\nMari Salmenhaara\, autopesujen ekspertti ja valokuvaaja / Kaakonmari Oy\n\nVoit saapua paikalle\, kun sinulle parhaiten sopii!\n---\nPizzaa on tarjolla osallistujille kello 17 alkaen. Tilaisuuden "virallinen" osuus päättyy kello 18\, jonka jälkeen Jaskaan saa vielä jäädä jatkamaan keskusteluja ja illan viettoa.\nTämä on loistava tilaisuus verkostoitua\, jakaa kokemuksia ja saada uusia ideoita liiketoiminnan kehittämiseen. Olet lämpimästi tervetullut rentoon tilaisuuteen omana itsenäsi - yrittäjänä tai kiinnostuksella yrittäjyyttä kohtaan. \nTilaisuus on järjestetty yhteistyössä Haminan Yrittäjien ja Cursorin kanssa.\n      
LOCATION:Jack-Up -ravintola\, Sibeliuskatu 32\, 49400\, Hamina\, Suomi
URL:http://tapahtumat.cursor.fi/pizzaabisnesta2026
END:VEVENT
END:VCALENDAR
