BEGIN:VCALENDAR
METHOD:PUBLISH
VERSION:2.0
PRODID:-//Eventilla iCal Syndication//NONSGML Liana//EN
BEGIN:VEVENT
UID:Q2LvM@eventilla.com
DTSTAMP:20231012T060000Z
DTSTART:20231012T060000Z
DTEND:20231012T070000Z
SUMMARY:Matkailureitistöistä lisäarvoa ja kilpailuetua liiketoimintaasi
DESCRIPTION:Matkailureitistöistä lisäarvoa ja kilpailuetua liiketoimintaasi\n \nOletko valmis astumaan pyörä- ja reitistömatkailun maailmaan ja laajentamaan matkailuliiketoimintaasi uusille kohderyhmille ja kehittämään palveluja jo tavoitetuille matkailijoille?\n \nINFOTILAISUUDEN OHJELMA\n9:00-9:15 Uudet ylimaakunnalliset matkailureitit ja niiden tuotteistaminen\nPäivi Pälvimäki\, Tea Laitimo\, Kari Taimisto\, Mikko KiirikkiVisitKouvola\, goSaimaa\, Visit Kotka-Hamina\n9:15-9:30 Pyöräily matkailun kasvun mahdollistajana\n Henna Palosaari\, Bikeland.fi - Pyörämatkailukeskus\n9:30-9:45 Reitistöjen tuotteistamisvalmennuksista aitoa lisäarvoa liiketoimintaasi \nMikko Saarinen\, Allegra Nordics Oy\n9:45-10:00 Kysymyksiä ja keskustelua\n \nMiksi pyörämatkailu? Se on yksi nopeimmin kasvavista matkailusegmenteistä maailmassa. Matkailijat etsivät yhä enemmän aktiivisia\, ympäristöystävällisiä ja paikallisia kokemuksia. Pyörämatkailu täyttää kaikki nämä kriteerit ja tarjoaa samalla hienon mahdollisuuden tutustua myös Kaakkois-Suomen ainutlaatuisiin piirteisiin ja kulttuuriin. \nYhdessä pystymme kehittämään alueemme kiinnostavuutta matkailualueena\, kun vain palvelut ja tuotteet ovat asiakaslähtöisesti suunniteltu ja löydettävissä! \nEikä myöskään vähiten siitä syystä\, että alueellamme on tuotteistettu jo monia kiinnostavia reitistökokonaisuuksia\, ja seuraava askel onkin rikastaa palvelutarjontaa.\nTässä avainasemassa olette te\, alueen yrittäjät ja matkailutoimijat. Olisikin hienoa saada sinut mukaan työpajoihin rikastamaan alueellista palvelutarjontaa ja verkostoitumaan muiden kanssa! \nJärjestämme alueen matkailutoimijoille kaksi valmennuspäivää 17.10. ja 7.11.2023. Katso lyhyt esittelyvideo tästä.\n \nNäissä työpajoissa saat mahdollisuuden: \nKehittää uusia ja parannettuja tuotteita sekä palveluita\, joilla on aito liiketoiminnallinen mahdollisuus olemassa\n\nKuulla inspiroivia esimerkkejä ja saatte käytännön neuvoja siitä\, miten voitte tuotteistaa palveluja pyörämatkailijoille\nVerkostoitua muiden toimijoiden kanssa\, mahdollisesti löytää myös uusia yhteistyökumppaneita\nSaada tukea markkinointiin ja myyntiin: saat vinkkejä näkyvyyden ja ostettavuuden edistämiseen\n\n \nToimenpiteet tehdään osana Elinvoimaa Kaakkois-Suomeen matkailuyhteistyöllä -hanketta.\n \nIlmoittautumislinkit:\nIlmoittaudu mukaan infotilaisuuteen\nIlmoittaudu mukaan valmennuksiin 9.10. mennessä\n \n \n\n 
LOCATION:Microsoft Teams\, Suomi
URL:http://tapahtumat.cursor.fi/matkailureitisto
END:VEVENT
END:VCALENDAR
