BEGIN:VCALENDAR
METHOD:PUBLISH
VERSION:2.0
PRODID:-//Eventilla iCal Syndication//NONSGML Liana//EN
BEGIN:VEVENT
UID:PPOXM@eventilla.com
DTSTAMP:20221214T070000Z
DTSTART:20221214T070000Z
DTEND:20221214T083000Z
SUMMARY:Yrittäjien joulupuuro
DESCRIPTION:Tervetuloa yrittäjien jou­lu­puu­rol­le!\nCursorin yrityspalvelutiimi ja matkailutiimi tarjoavat joulupuuron alueen yrittäjille.  Tarjolla on kahvia\, teetä\, glögiä sekä tietysti joulupuuroa. Tilaisuuden ohjelmassa on yrityspalvelujohtaja Elina Reijasalon sekä matkailujohtaja Ekaterina Miettisen joulutervehdys sekä vapaata seurustelua tarjoilujen parissa.\nIlmoittaudu mukaan verkostoitumaan 12.12. mennessä.
LOCATION:Eagle auditorio\, Kyminlinnantie 6\, Kotka
URL:http://tapahtumat.cursor.fi/joulupuuro
END:VEVENT
END:VCALENDAR
