BEGIN:VCALENDAR
METHOD:PUBLISH
VERSION:2.0
PRODID:-//Eventilla iCal Syndication//NONSGML Liana//EN
BEGIN:VEVENT
UID:Ko1Dd@eventilla.com
DTSTAMP:20260507T100000Z
DTSTART:20260507T100000Z
DTEND:20260507T120000Z
SUMMARY:Junior *Ship pitchauskilpailu 2026
DESCRIPTION:Junior *ship on yrittäjyys-\, ideointi- ja innovaatio kilpailutapahtuma 15–20-vuotiaille 9-luokan ja toisen asteen opiskelijoille. Se on osa *ship Startup Festivaalin kokonaisuutta.\nJunior *ship pitchauskilpailu\nJokainen ihminen kaipaa yhteisöllisyyttä ja yhteenkuuluvuuden tunnetta. Kootkaa 2–4 hengen tiimi ja kehittäkää palvelu\, tapahtuma\, tuote tai ratkaisu\, joka vahvistaa yhteisöllisyyttä erilaisten ihmisten välillä.\nKilpailutehtävä opiskelijoille\n\nPohtikaa omasta kokemusmaailmastanne käsin yhteisöllisyyttä: Millaisia yhteisöjä ympärillänne on ja kuinka voisimme yhdistää ihmisiä esimerkiksi erilaisista taustoista\, ikäryhmistä tai kaupunginosista.\nMiettikää millainen tuote\, palvelu\, tapahtuma tai ratkaisu parantaisi ihmisten välistä yhteisöllisyyttä?\nIdean/innovaation tulee olla kaupallistettavissa. Laatikaa kevyt liiketoimintasuunnitelma esim. SWOT-analyysiä hyödyntäen. Kirjallisen dokumentin tulee olla noin 2–3 sivua. Sen toteutustapa on vapaa ja se saa sisältää esimerkiksi kuvia ja tekstiä. Liiketoimintasuunnitelma lähetetään tuomaristolle ennen kilpailua ja se on osa kilpailutehtävää. \nLaadi 3 minuutin myyntipuhe. Pitchauksen voi pitää suomeksi\, englanniksi tai ruotsiksi. Esityksen tukena tulee olla englanninkielinen PowerPoint esitys\, jossa idea kiteytetään. Esitys lähetetään tuomaristolle liiketoimintasuunnitelman ohessa ennen kilpailua.\n\nKilpailijat saavat tuomaristopalautteet heti pitchauksen jälkeen. \nJunior *ship kilpailutapahtumaan osallistutaan tiimeinä. Tiimissä voi olla 2-4 henkilöä. Tapahtumaan mahtuu enintään 10 tiimiä. Kilpailupaikat täytetään ilmoittautumisjärjestyksessä. \nPalkinto:\nKilpailun voittajatiimi: Liput The Day Festival-tapahtumaan + yllätyspalkinto\nHopeasija: Liput The Day? Events -tapahtumaan \nKerää kokoon tiimisi ja ilmoittaudu mukaan 23.4.2026 mennessä!\n \nMistä on *ship Stratup Festivalissa on kyse?\n*ship Startup Festival on aikaisenvaiheen ja opiskelijavetoisille startupeille suunnattu tapahtuma. Tapahtuman ensimmäisenä päivänä ohjelmassa on kiinnostavia Keynote-puhujia\, toisen asteen ja 9. luokan opiskelijoille suunnattu Junior ship -kilpailu sekä lukuisia muita sivutapahtumia eri kohderyhmille. *ship huipentuu toisena päivänä järjestettävään Pitch Captain Competition -kilpailuun\, jossa 30 startupia nousee lavalle pitchaamaan oman startuppinsa ja kilpailemaan pääpalkinnosta. \nLue lisää *shipistä täältä.\n \n    
LOCATION:Kaakkois-Suomen ammattikorkeakoulu Xamk, Kotkan kampus\,
 Salakuljettajantie 4\, 48100\, Kotka\, Suomi
URL:http://tapahtumat.cursor.fi/juniorship
END:VEVENT
END:VCALENDAR
