BEGIN:VCALENDAR
METHOD:PUBLISH
VERSION:2.0
PRODID:-//Eventilla iCal Syndication//NONSGML Liana//EN
BEGIN:VEVENT
UID:GG9kO@eventilla.com
DTSTAMP:20231018T150000Z
DTSTART:20231018T150000Z
DTEND:20231018T170000Z
SUMMARY:RuokaGaala Kinopalatsissa
DESCRIPTION:RuokaGaala\n \n\nLämpimästi tervetuloa RuokaGaalaan Kotkan Kinopalatsiin keskiviikkona 18.10.2023 klo 17.15.\nRuokaGaala on osa Hungry for Kymenlaakso -hanketta\, jossa yhdessä yrittäjien kanssa syntyi maakunnan ruokaidentiteetin tarina sekä esimerkkejä sen hyödyntämisestä Kymenlaakso menun -muodossa.\n\n \nOhjelma alkaa klo 18:00\nSAIMI HOYER Saimaa Gastronomy ja yrittäjäyhteisö\nKYMENLAAKSO MENU Menun julkistaminen ja huippukokki Kristian Vuojärven haastattelu\nELÄMYKSIÄ VALKOKANKAALLAVideotarinoita paikallisista yrityksistä\nPAIKALLISIA MAKUJAMaistiaisia\n \nTapahtuman juontaa Katariina Myller ja Janne Ravi.\n \nOvet avoinna ja tarjoilu Kinopalatsissa alkaa klo 17.15.\nOhjelma päättyy klo 20.00.\n \nIlmoittaudu viimeistään 12.10.2023     Ilmoittaudu tästä\n \n
LOCATION:Kinopalatsi\, Keskuskatu 23\, 48100\, Kotka\, Suomi
URL:http://tapahtumat.cursor.fi/ruokagaala
END:VEVENT
END:VCALENDAR
