BEGIN:VCALENDAR
METHOD:PUBLISH
VERSION:2.0
PRODID:-//Eventilla iCal Syndication//NONSGML Liana//EN
BEGIN:VEVENT
UID:7Mp9L@eventilla.com
DTSTAMP:20251117T110000Z
DTSTART:20251117T110000Z
DTEND:20251117T120000Z
SUMMARY:Luova aineeton pääoma - Luovien alojen IPR
DESCRIPTION:Luovien alojen IPR\n \nMitä on luova\, aineeton pääoma (Intellectual Property\, IP) ja millä tavoin IPR suojauksia voi ja kannattaa hyödyntää luovilla aloilla?\n \n\nMillaisia suojauksia oman työn tuotokset voivat saada\, miten niitä voidaan ihan oikeasti käyttää ja mitä kaikki tämä maksaa?\nYlittyykö tekijänoikeuden teoskynnys?\nMiten hallitaan softakehittämisen lisenssiviidakko?\nMiten suojataan tietokanta?\nMillä keinoin taiteellisen\, luovan työn tuotoksia kannattaa suojata? \n\nIlmoittaudu webinaariin ja tule kuulemaan ja esittämään kysymyksiä asiantuntijalle. \nAsiantuntijana Juhani Talvela\, Keksintösäätiö   \n\nJuhani Talvela on kokenut yrittäjä\, innovaatiokehittäjä ja IP/IPR asiantuntija joka on toiminut luovien alojen IPR-osaamisen kehittäjänä mm. Aalto-yliopistossa. Hän on julkaissut lukuisia artikkeleita luovien alojen aineettomista oikeuksista ja mm. kirjan 3D-kulttuuri-IPR\, joka käsittelee 3D mallinnuksen IPR-oikeuksia. Talvela on työssään Keksintösäätiössä ja Intellisys Oy:lla keskittynyt luovan\, aineettoman omaisuuden kehittämiseen\, tunnistamiseen\, suojaamiseen ja hyödyntämiseen.   \n \nTervetuloa mukaan!\n\nWebinaari järjetetään yhteistyössä Ideajalostamo Kymenlaakso -hankkeen\, Keksintösäätiön ja Kouvola Innovationin kanssa ja on tarkoitettu Kymenlaakson ja Loviisan yrityksille ja alueellemme yritystoimintaa suunnitteleville.\nMuutokset mahdollisia. 
LOCATION:webinaari\, webinaari
URL:http://tapahtumat.cursor.fi/luovien_alojen_ipr
END:VEVENT
END:VCALENDAR
