BEGIN:VCALENDAR
METHOD:PUBLISH
VERSION:2.0
PRODID:-//Eventilla iCal Syndication//NONSGML Liana//EN
BEGIN:VEVENT
UID:1Nz1V@eventilla.com
DTSTAMP:20221123T070000Z
DTSTART:20221123T070000Z
DTEND:20221123T123000Z
SUMMARY:Power Coast - Virtaa rannikolle
DESCRIPTION:Energiamurroksesta virtaa Kaakkois-Suomen rannikolle\nTule kuuntelemaan mielenkiintoisia puheenvuoroja Kaakkois-Suomen näkymistä ja potentiaalista energiamurroksen vauhdittajana\, kun yhteiskunta sähköistyy. Kuulemme myös energiavarastointiklusterin kehittymisestä seudulle sekä sen mukanaan tuomista tarpeista ja tarjoamista mahdollisuuksista.\n\nMiltä Kaakkois-Suomen tulevaisuus näyttää energiamurroksen keskellä? Millaisia mahdollisuuksia energiavarastointiklusterin rakentuminen seudulle tarjoaa? Onko tulevaisuutemme vetylaaksossa?\n\nLämpimästi tervetuloa mukaan!\nAIKA: Keskiviikko 23.11. klo 9.00-14.30PAIKKA: Merikeskus Vellamo\, Tornatorintie 99\, Kotka / Ahti- ja Kaija -opetustilat  tai etänä (striimaukseen ilmoittautuneille lähetetään osallistumislinkki ennen tapahtumaa)\nOHJELMA\n9.00-9.05         Tervetuloa\n9.05-9.30         Vihreä siirtymä Suomen kilpailukyvyn ajurina                                Janne Peljo\, johtava asiantuntija\, Elinkeinoelämän keskusliitto EK\n9.30-9.50         Suomen kansallisen akkustrategian potentiaali                                Jyrki Alkio\, hankepäällikkö\, Työ- ja elinkeinoministeriö\n9.50-10.10       Sähköjärjestelmän ja Kymenlaakson alueen kantaverkon tulevaisuusskenaarioita                                Jarno Sederlund\, asiakaspäällikkö\, Fingrid\n10.10-10.30       Aamukahvi\n10.30-10.55     Vedyn ja tuulivoiman merkitys Kaakkois-Suomelle                                Petteri Laaksonen\, tutkimusjohtaja\, LUT-yliopisto\n10.55-11.20     Onko logistiikka uhka vai mahdollisuus?                                Mikko Saariaho\, vaikuttavuusjohtaja\, Fintraffic\n11.20-11.45     Joustava energiantuotanto ja -kulutus                                Petteri Jernström\, tutkimusjohtaja\, Kaakkois-Suomen ammattikorkeakoulu\n11.45-12.15       Energiavarastointiklusteri Kymenlaaksoon                                Pertti Kauranen\, energiavarastoinnin professori\, LUT-yliopisto\n12.15-13.00       Lounas\n13.00-13.30    Akkumateriaalit sähköistymisessä ja akkumateriaalitehtaat                               Timo Strengell\, Project Director\, Suomen Malmijalostus Oy\n13.30-13.55     Akkualan ammatilliset osaamistarpeet                                Anni Siltanen\, johtava asiantuntija\, Kemianteollisuus ry\n13.55-14.20     Power Coast United ja alueen akkutiekartta                                Harri Eela\, Senior Advisor\, Cursor\n14.20-14.30     Päätössanat\n \nTilaisuuden juontaa toimittaja Kimmo Ohtonen.\nIlmoittautuminen viimeistään 20.11.\nTilaisuuden striimi tallennetaan ja linkki tallenteeseen lähetetään kaikille ilmoittautuneille. Tallenne on katsottavissa kahden viikon ajan.\nTapahtuman järjestää Euroopan aluekehitysrahaston (EAKR) rahoittama Sustainable Energy Storage -hanke\, jonka toteuttajina ovat Cursor Oy ja LUT-yliopisto. Mukana yhteistyössä on Kymenlaakson liiton AKKE-rahoituksella rahoittama Power Coast United -hanke\, toteuttajana Cursor Oy.\n
LOCATION:Merikeskus Vellamo\, Tornatorintie 99\, 48100\, Kotka
URL:http://tapahtumat.cursor.fi/virtaarannikolle
END:VEVENT
END:VCALENDAR
